BEGIN:VCALENDAR
VERSION:2.0
PRODID:-//ChamberMaster//Event Calendar 2.0//EN
METHOD:PUBLISH
X-PUBLISHED-TTL:P3D
REFRESH-INTERVAL:P3D
CALSCALE:GREGORIAN
BEGIN:VEVENT
DTSTART:20171006T120000Z
DTEND:20171006T130000Z
X-MICROSOFT-CDO-ALLDAYEVENT:FALSE
SUMMARY:Government Relations 10/6/17
DESCRIPTION:Georgia Van Gundy\, Executive Director of the Iowa Business Council will be our featured guest. As a first time visitor to the Government Relations Committee\, Georgia will talk about the Iowa Business Council and the Council's priorities going into the 2018 session. Georgia brings a wealth of experience to the table in her career in government and legislative matters\, and we anticipate a great discussion.
X-ALT-DESC;FMTTYPE=text/html:<span style="font-family: arial\;">&nbsp\;</span>\n<div style="text-align: center\;"><font face="arial"><span style="font-size: 14.66px\;">Georgia Van Gundy\, Executive Director of the Iowa Business Council will be our featured guest. As a first time visitor to the Government Relations Committee\, Georgia will talk about the Iowa Business Council and the Council&#39\;s&nbsp\;priorities going into the 2018 session. Georgia brings a wealth of experience to the table in her career in government and legislative matters\, and we anticipate a great discussion.</span></font><br />\n<br />\n<br />\n<br />\n&nbsp\;</div>\n
LOCATION:Siouxland Chamber of Commerce 101 Pierce Street\, Sioux City\, IA
UID:e.769.3563
SEQUENCE:3
DTSTAMP:20260420T045659Z
URL:https://directory.siouxlandchamber.com/events/details/government-relations-10-6-17-3563
END:VEVENT

END:VCALENDAR
