BEGIN:VCALENDAR
VERSION:2.0
PRODID:-//ChamberMaster//Event Calendar 2.0//EN
METHOD:PUBLISH
X-PUBLISHED-TTL:P3D
REFRESH-INTERVAL:P3D
CALSCALE:GREGORIAN
BEGIN:VEVENT
DTSTART:20221028T120000Z
DTEND:20221028T130000Z
X-MICROSOFT-CDO-ALLDAYEVENT:FALSE
SUMMARY:Government Relations 10/28/2022
DESCRIPTION:CORRECTION   the meeting begins at 7:00 AM   NOT 7:30  \n\n\n\n\n\nJoin us in person as we finalize the results of the 2023 Iowa Legislative Survey and draft the Chamber Legislative Agenda for the upcoming session.  There will be a lot of discussion on the issues while we craft the Chamber's policy positions.
X-ALT-DESC;FMTTYPE=text/html:&nbsp\;<strong><span style="color:red\;"><span style="font-size:24.0pt\;">&nbsp\;CORRECTION&hellip\;&nbsp\; the meeting <span style="background:yellow\;">begins at 7:00 AM</span> &ndash\; NOT 7:30&nbsp\; </span></span></strong><br />\n<br />\n<br />\n<span style="color: rgb(51\, 51\, 51)\; font-family: sans-serif\, Arial\, Verdana\, &quot\;Trebuchet MS&quot\;\; font-size: 16px\; background-color: rgb(255\, 255\, 255)\;">Join us in person as we finalize the results of the 2023 Iowa Legislative Survey and draft the Chamber Legislative Agenda for the upcoming session.&nbsp\; There will be a lot of discussion on the issues while we craft the Chamber&#39\;s policy positions.&nbsp\;&nbsp\;</span>
LOCATION:
UID:e.769.5887
SEQUENCE:3
DTSTAMP:20260419T212639Z
URL:https://directory.siouxlandchamber.com/events/details/government-relations-10-28-2022-5887
END:VEVENT

END:VCALENDAR
