BEGIN:VCALENDAR
VERSION:2.0
PRODID:-//ChamberMaster//Event Calendar 2.0//EN
METHOD:PUBLISH
X-PUBLISHED-TTL:P3D
REFRESH-INTERVAL:P3D
CALSCALE:GREGORIAN
BEGIN:VEVENT
DTSTART:20161021T120000Z
DTEND:20161021T130000Z
X-MICROSOFT-CDO-ALLDAYEVENT:FALSE
SUMMARY:Government Relations 10/21/16
DESCRIPTION:Join us as we review the results of the 2017 legislative survey and begin developing the 2017 Legislative Agenda. We will have copies of the 2016 agenda and the 2016 legislative wrap-up available to help us get the ball rolling\, and if you'd like to read up in advance please download the 2016 agenda and wrap-up at:\n\n\n\nhttp://siouxlandchamber.com/siouxland-chamber/government-relations/
X-ALT-DESC;FMTTYPE=text/html:<span style="font-family:arial\;">&nbsp\;</span>\n\n<div style="text-align:center\;"><font color="#000000" face="arial"><span style="font-size: 15px\; line-height: 23.466667175293px\;">Join us as we review the results of the 2017 legislative survey and begin developing the 2017 Legislative Agenda. We will have copies of the 2016 agenda and&nbsp\;the 2016 legislative wrap-up available to help us get the ball rolling\, and if you&#39\;d like to read up in advance please download the 2016 agenda and wrap-up at:</span></font><br />\n<br />\n<a href="http://siouxlandchamber.com/siouxland-chamber/government-relations/">http://siouxlandchamber.com/siouxland-chamber/government-relations/&nbsp\;</a></div>\n
LOCATION:Siouxland Chamber of Commerce 101 Pierce Street\, Sioux City\, IA
UID:e.769.3399
SEQUENCE:3
DTSTAMP:20260421T004000Z
URL:https://directory.siouxlandchamber.com/events/details/government-relations-10-21-16-3399
END:VEVENT

END:VCALENDAR
