BEGIN:VCALENDAR
VERSION:2.0
PRODID:-//ChamberMaster//Event Calendar 2.0//EN
METHOD:PUBLISH
X-PUBLISHED-TTL:P3D
REFRESH-INTERVAL:P3D
CALSCALE:GREGORIAN
BEGIN:VEVENT
DTSTART:20181019T120000Z
DTEND:20181019T130000Z
X-MICROSOFT-CDO-ALLDAYEVENT:FALSE
SUMMARY:Government Relations 10/19/18
DESCRIPTION:Join us as we review the results of the 2019 Iowa legislative survey and revise the Chamber legislative agenda for 2019. Lots of discussion of the issues while we craft the Chamber's policy positions.\n\n\n\nThank you to CMBA Architects for hosting this week's meeting at their offices in the United Center Building\, directly south of the Convention Center. Address: 302 Jones St\, second floor.
X-ALT-DESC;FMTTYPE=text/html:<div style="text-align: center\;">&nbsp\;</div>\n<span style="font-size: 16px\;">Join us as we review the results of the 2019 Iowa legislative survey and revise the Chamber legislative agenda for 2019. Lots of discussion of the issues while we craft the Chamber&#39\;s policy positions.<br />\n<br />\n<em><span style="font-size: 14px\;">Thank you to CMBA Architects for hosting this week&#39\;s meeting at their offices in the United Center Building\, directly south of the Convention Center. Address: 302 Jones St\, second floor.</span></em></span><br />\n&nbsp\;
LOCATION:CMBA Architects Conference Room United Center Building\, 2nd floor 302 Jones St Sioux City\, IA
UID:e.769.4842
SEQUENCE:3
DTSTAMP:20260420T225019Z
URL:https://directory.siouxlandchamber.com/events/details/government-relations-10-19-18-4842
END:VEVENT

END:VCALENDAR
