BEGIN:VCALENDAR
VERSION:2.0
PRODID:-//ChamberMaster//Event Calendar 2.0//EN
METHOD:PUBLISH
X-PUBLISHED-TTL:P3D
REFRESH-INTERVAL:P3D
CALSCALE:GREGORIAN
BEGIN:VEVENT
DTSTART:20160108T140000Z
DTEND:20160108T150000Z
X-MICROSOFT-CDO-ALLDAYEVENT:FALSE
SUMMARY:Government Relations 1/8/15
DESCRIPTION:Join us for the 2016 Siouxland Chamber Legislative Forum. A bi-partisan panel of Siouxland legislators from the Iowa House and Senate will provide an overview of their agendas going into the 2016 session\, preview key issues likely to be taken up by the Iowa legislature\, and take your questions.
X-ALT-DESC;FMTTYPE=text/html:<span style="font-family:arial\;">&nbsp\;</span>\n\n<div style="text-align:center\;"><font color="#000000" face="arial"><span style="font-size: 15px\; line-height: 23.466667175293px\;">Join us for the 2016 Siouxland Chamber Legislative Forum. A bi-partisan panel of&nbsp\;Siouxland legislators from the Iowa House and Senate will provide an overview&nbsp\;of their agendas going into the 2016 session\, preview key issues likely to be taken up by the Iowa legislature\, and take your questions.</span></font></div>\n
LOCATION:Siouxland Chamber of Commerce 101 Pierce Street\, Sioux City\, IA
UID:e.769.2200
SEQUENCE:3
DTSTAMP:20260421T155656Z
URL:https://directory.siouxlandchamber.com/events/details/government-relations-1-8-15-01-08-2016-2200
END:VEVENT

END:VCALENDAR
