BEGIN:VCALENDAR
VERSION:2.0
PRODID:-//ChamberMaster//Event Calendar 2.0//EN
METHOD:PUBLISH
X-PUBLISHED-TTL:P3D
REFRESH-INTERVAL:P3D
CALSCALE:GREGORIAN
BEGIN:VEVENT
DTSTART:20150123T130000Z
DTEND:20150123T140000Z
X-MICROSOFT-CDO-ALLDAYEVENT:FALSE
SUMMARY:Government Relations 1/23/15
DESCRIPTION:Nicole Crain of the Association of Business and Industry in Iowa (ABI) will join us to discuss the 2015 legislative session and issues important to ABI and its membership. Nicole brings a wealth of knowledge about of the Iowa Legislature so this is a meeting you don't want to miss.
X-ALT-DESC;FMTTYPE=text/html:<span style="font-family:arial\;">&nbsp\;</span>\n\n<div style="text-align:center\;"><font color="#000000" face="arial"><span style="font-size: 15px\; line-height: 23.466667175293px\;">Nicole Crain of the Association of Business and Industry in Iowa (ABI) will join us to discuss the 2015 legislative session and issues important to ABI and its membership. Nicole brings a wealth of knowledge about of the Iowa Legislature so this is a meeting you don&#39\;t want to miss.</span></font></div>\n
LOCATION:Siouxland Chamber of Commerce 101 Pierce Street\, Sioux City\, IA
UID:e.769.2079
SEQUENCE:3
DTSTAMP:20260422T003525Z
URL:https://directory.siouxlandchamber.com/events/details/government-relations-1-23-15-01-23-2015-2079
END:VEVENT

END:VCALENDAR
