BEGIN:VCALENDAR
VERSION:2.0
PRODID:-//ChamberMaster//Event Calendar 2.0//EN
METHOD:PUBLISH
X-PUBLISHED-TTL:P3D
REFRESH-INTERVAL:P3D
CALSCALE:GREGORIAN
BEGIN:VEVENT
DTSTART:20160122T130000Z
DTEND:20160122T140000Z
X-MICROSOFT-CDO-ALLDAYEVENT:FALSE
SUMMARY:Government Relations 1/22/16
DESCRIPTION:Rep. Ron Jorgensen (R - Sioux City)\, Chair of the House Education Committee will join us for an in-depth discussion about school funding proposals currently being considered by the Iowa Legislature. Proposals include allowable growth\, multi-year budgeting\, and the extension of the statewide penny sales tax for school infrastructure. In addition\, Rep. Jorgensen will provide his thoughts on the early stages of the session.
X-ALT-DESC;FMTTYPE=text/html:<span style="font-family:arial\;">&nbsp\;</span>\n\n<div style="text-align:center\;"><font color="#000000" face="arial"><span style="font-size: 15px\; line-height: 23.466667175293px\;">Rep. Ron Jorgensen (R - Sioux City)\, Chair of the House Education Committee will join us for an in-depth discussion about school funding proposals currently being considered by the Iowa Legislature. Proposals include allowable growth\, multi-year budgeting\, and the extension of the statewide penny sales tax for school infrastructure. In addition\, Rep. Jorgensen will provide his thoughts on the early stages of the session.</span></font></div>\n
LOCATION:Siouxland Chamber of Commerce 101 Pierce Street\, Sioux City\, IA
UID:e.769.3210
SEQUENCE:3
DTSTAMP:20260421T155656Z
URL:https://directory.siouxlandchamber.com/events/details/government-relations-1-22-16-01-22-2016-3210
END:VEVENT

END:VCALENDAR
