BEGIN:VCALENDAR
VERSION:2.0
PRODID:-//ChamberMaster//Event Calendar 2.0//EN
METHOD:PUBLISH
X-PUBLISHED-TTL:P3D
REFRESH-INTERVAL:P3D
CALSCALE:GREGORIAN
BEGIN:VEVENT
DTSTART:20170120T130000Z
DTEND:20170120T140000Z
X-MICROSOFT-CDO-ALLDAYEVENT:FALSE
SUMMARY:Government Relations 1/20/17
DESCRIPTION:This week it's all things federal -- \n\n\n\nJacob Bossman from Senator Grassley's office\, Jerry Self from Senator Ernst's office\, and Cassie Nguyen from Representative King's office will provide an overview of the transition underway in Washington DC. Topics will include the Trump transition\, unified federal government\, the priorities of our federal congressional delegation\, and other federal issues. \n\n\n\nWe'll also provide an update on the first two weeks of the Iowa legislative session and preview the upcoming Washington DC trip.
X-ALT-DESC;FMTTYPE=text/html:<span style="font-family:arial\;">&nbsp\;</span>\n<div style="text-align:center\;"><span style="font-family:arial\;"><span style="font-size:11.0pt\;">This week it&#39\;s all things federal --&nbsp\;<br />\n<br />\nJacob Bossman from Senator Grassley&rsquo\;s office\, Jerry Self from Senator Ernst&rsquo\;s office\, and Cassie Nguyen from Representative King&rsquo\;s office will provide an overview of the transition underway in Washington DC. Topics will include the Trump transition\, unified federal government\, the priorities of our federal congressional delegation\, and other federal issues.&nbsp\;<br />\n<br />\nWe&#39\;ll also provide an update on the first two weeks of the Iowa legislative session and preview the upcoming Washington DC trip.</span></span></div>\n
LOCATION:Siouxland Chamber of Commerce 101 Pierce Street\, Sioux City\, IA
UID:e.769.3437
SEQUENCE:3
DTSTAMP:20260419T151242Z
URL:https://directory.siouxlandchamber.com/events/details/government-relations-1-20-17-3437
END:VEVENT

END:VCALENDAR
