BEGIN:VCALENDAR
VERSION:2.0
PRODID:-//ChamberMaster//Event Calendar 2.0//EN
METHOD:PUBLISH
X-PUBLISHED-TTL:P3D
REFRESH-INTERVAL:P3D
CALSCALE:GREGORIAN
BEGIN:VEVENT
DTSTART:20190111T140000Z
DTEND:20190111T150000Z
X-MICROSOFT-CDO-ALLDAYEVENT:FALSE
SUMMARY:Government Relations 1/11/19
DESCRIPTION:Join us for the 2019 Siouxland Chamber Legislative Forum. A bipartisan panel of Siouxland legislators from the Iowa House and Senate will provide an overview of their agendas going into the 2019 session\, preview key issues likely to be taken up by the Iowa legislature\, and take your questions.\n\n\n\nNote location is the WITCC campus\, use parking lot 3 and enter via Entrance 12.
X-ALT-DESC;FMTTYPE=text/html:<font color="#000000" face="arial"><span style="line-height: 23.46px\; font-size: 15px\;">Join us for the 2019 Siouxland Chamber Legislative Forum. A bipartisan panel of&nbsp\;Siouxland legislators from the Iowa House and Senate will provide an overview&nbsp\;of their agendas going into the 2019 session\, preview key issues likely to be taken up by the Iowa legislature\, and take your questions.<br />\n<br />\nNote location is the WITCC campus\, use parking lot 3 and enter via Entrance 12.</span></font><br />\n<br />\n&nbsp\;
LOCATION:WITCC Campus Robert E. Dunker Student Center Room 108 Use parking lot 3 and enter via Entrance 12.
UID:e.769.4874
SEQUENCE:3
DTSTAMP:20260421T031749Z
URL:https://directory.siouxlandchamber.com/events/details/government-relations-1-11-19-4874
END:VEVENT

END:VCALENDAR
