BEGIN:VCALENDAR
VERSION:2.0
PRODID:-//ChamberMaster//Event Calendar 2.0//EN
METHOD:PUBLISH
X-PUBLISHED-TTL:P3D
REFRESH-INTERVAL:P3D
CALSCALE:GREGORIAN
BEGIN:VEVENT
DTSTART:20220923T120000Z
DTEND:20220923T130000Z
X-MICROSOFT-CDO-ALLDAYEVENT:FALSE
SUMMARY:Government Relations 09/23/2022
DESCRIPTION:JD Davis\, Vice President of Public Policy with the Iowa Association of Business and Industry will be our guest speaker to discuss ABI's 2023 legislative priorities.  \n\n\n\nPlease join us in person or via Zoom.  To get Zoom information\, please register for the meeting and the Zoom information will be in the confirmation email.
X-ALT-DESC;FMTTYPE=text/html:<div><span style="font-size:20px\;"><span style="font-family:arial\;"><strong>JD Davis\, Vice President of Public Policy with the Iowa Association of Business and Industry will be our guest speaker to discuss ABI&#39\;s 2023 legislative priorities.&nbsp\;&nbsp\;<br />\n<br />\nPlease join us in person or via Zoom.&nbsp\; To get Zoom information\, please register for the meeting and the Zoom information will be in the confirmation email.&nbsp\;&nbsp\;<br />\n&nbsp\;</strong></span></span></div>\n
LOCATION:Siouxland Chamber of Commerce
UID:e.769.5865
SEQUENCE:3
DTSTAMP:20260419T230337Z
URL:https://directory.siouxlandchamber.com/events/details/government-relations-09-23-2022-5865
END:VEVENT

END:VCALENDAR
