BEGIN:VCALENDAR
VERSION:2.0
PRODID:-//ChamberMaster//Event Calendar 2.0//EN
METHOD:PUBLISH
X-PUBLISHED-TTL:P3D
REFRESH-INTERVAL:P3D
CALSCALE:GREGORIAN
BEGIN:VEVENT
DTSTART:20230224T130000Z
DTEND:20230224T140000Z
X-MICROSOFT-CDO-ALLDAYEVENT:FALSE
SUMMARY:Government Relations
DESCRIPTION:Joe Murphy President of the Iowa Business Council will start our morning via Zoom to give an update on 2023 Legislative priorities for IBC.\n\nRepresentative J.D. Scholten will also join us in person to discuss his 2023 Legislative priorities.\n\n\n\nYou are welcome to join us in person or via Zoom. Please register to receive the Zoom information in a confirmation email.
X-ALT-DESC;FMTTYPE=text/html:<span style="font-size:16px\;"><span style="font-family:arial\;"><span style="color:#333333\;">Joe Murphy President of the Iowa Business Council will start our morning via Zoom to give an update on 2023 Legislative priorities for IBC.<br />\nRepresentative J.D. Scholten will also join us in person to discuss his 2023 Legislative priorities.<br />\n<br />\nYou are welcome to join us in person or via Zoom.</span> Please register&nbsp\;to receive the Zoom information in a confirmation email.</span></span><br />\n&nbsp\;
LOCATION:Siouxland Chamber of Commerce 101 Pierce Street
UID:e.769.5974
SEQUENCE:3
DTSTAMP:20260419T151314Z
URL:https://directory.siouxlandchamber.com/events/details/government-relations-02-24-2023-5974
END:VEVENT

END:VCALENDAR
