BEGIN:VCALENDAR
VERSION:2.0
PRODID:-//ChamberMaster//Event Calendar 2.0//EN
METHOD:PUBLISH
X-PUBLISHED-TTL:P3D
REFRESH-INTERVAL:P3D
CALSCALE:GREGORIAN
BEGIN:VEVENT
DTSTART:20190118T130000Z
DTEND:20190118T140000Z
X-MICROSOFT-CDO-ALLDAYEVENT:FALSE
SUMMARY:Government Relations 01/18/19
DESCRIPTION:Matt Everson\, Iowa State Director for the National Federation of Independent Business (NFIB)\, will be our guest speaker. NFIB is the voice of small business--a member-driven organization advocating for America's small and independent business owners in Washington\, D.C.\, and all 50 state capitals.\n\n\n\nNote location is WITCC\, use parking lot 3 and enter via entrance 12\, Room 108.
X-ALT-DESC;FMTTYPE=text/html:Matt Everson\, Iowa State Director for the&nbsp\;National Federation of Independent Business (NFIB)\, will be our guest speaker. NFIB is the voice of small business--a member-driven organization advocating for America&#39\;s small and independent business owners in Washington\, D.C.\, and all 50 state capitals.<br />\n<br />\n<em><strong>Note location is WITCC\, use parking lot 3 and enter via entrance 12\, Room 108.</strong></em><br />\n&nbsp\;
LOCATION:WITCC Campus Robert E. Dunker Student Center Room W108 Use parking lot 3 and enter via entrance 12
UID:e.769.4882
SEQUENCE:3
DTSTAMP:20260421T031742Z
URL:https://directory.siouxlandchamber.com/events/details/government-relations-01-18-19-4882
END:VEVENT

END:VCALENDAR
