BEGIN:VCALENDAR
VERSION:2.0
PRODID:-//ChamberMaster//Event Calendar 2.0//EN
METHOD:PUBLISH
X-PUBLISHED-TTL:P3D
REFRESH-INTERVAL:P3D
CALSCALE:GREGORIAN
BEGIN:VEVENT
DTSTART:20150529T150000Z
DTEND:20150529T153000Z
X-MICROSOFT-CDO-ALLDAYEVENT:FALSE
SUMMARY:Fridays on the Promenade Press Conference
DESCRIPTION:Fridays on the Promenade will announce concert dates and bands.
X-ALT-DESC;FMTTYPE=text/html:Fridays on the Promenade will announce concert dates and bands.
LOCATION:4th & Virginia Streets At the Roth Fountain on the Promenade Rain location is atrium of Sioux City Convention Center
UID:e.769.2123
SEQUENCE:3
DTSTAMP:20260421T174239Z
URL:https://directory.siouxlandchamber.com/events/details/fridays-on-the-promenade-press-conference-05-29-2015-2123
END:VEVENT

END:VCALENDAR
