BEGIN:VCALENDAR
VERSION:2.0
PRODID:-//ChamberMaster//Event Calendar 2.0//EN
METHOD:PUBLISH
X-PUBLISHED-TTL:P3D
REFRESH-INTERVAL:P3D
CALSCALE:GREGORIAN
BEGIN:VEVENT
DTSTART:20160722T230000Z
DTEND:20160723T010000Z
X-MICROSOFT-CDO-ALLDAYEVENT:FALSE
SUMMARY:Fridays on the Promenade Concert 2016 #6
DESCRIPTION:This week's band is Bassel & the Supernaturals
X-ALT-DESC;FMTTYPE=text/html:This week&#39\;s band is Bassel &amp\; the Supernaturals&nbsp\;
LOCATION:Roth Fountain\, on the Promenade at 4th and Virginia Streets
UID:e.769.3275
SEQUENCE:3
DTSTAMP:20260421T160208Z
URL:https://directory.siouxlandchamber.com/events/details/fridays-on-the-promenade-concert-2016-6-07-22-2016-3275
END:VEVENT

END:VCALENDAR
