BEGIN:VCALENDAR
VERSION:2.0
PRODID:-//ChamberMaster//Event Calendar 2.0//EN
METHOD:PUBLISH
X-PUBLISHED-TTL:P3D
REFRESH-INTERVAL:P3D
CALSCALE:GREGORIAN
BEGIN:VEVENT
DTSTART:20160715T230000Z
DTEND:20160716T010000Z
X-MICROSOFT-CDO-ALLDAYEVENT:FALSE
SUMMARY:Fridays on the Promenade Concert 2016 #5
DESCRIPTION:This week's band is the Rusty Wright Band.
X-ALT-DESC;FMTTYPE=text/html:This week&#39\;s band is the Rusty Wright Band.
LOCATION:Roth Fountain\, on the Promenade at 4th and Virginia Streets
UID:e.769.3274
SEQUENCE:3
DTSTAMP:20260421T143712Z
URL:https://directory.siouxlandchamber.com/events/details/fridays-on-the-promenade-concert-2016-5-07-15-2016-3274
END:VEVENT

END:VCALENDAR
