BEGIN:VCALENDAR
VERSION:2.0
PRODID:-//ChamberMaster//Event Calendar 2.0//EN
METHOD:PUBLISH
X-PUBLISHED-TTL:P3D
REFRESH-INTERVAL:P3D
CALSCALE:GREGORIAN
BEGIN:VEVENT
DTSTART:20171110T143000Z
DTEND:20171110T150000Z
X-MICROSOFT-CDO-ALLDAYEVENT:FALSE
SUMMARY:Flag Raising - Perkins Family Restaurant\, Downtown
DESCRIPTION:Perkins Family Restaurant in downtown Sioux City has recently completed a renovation of their restaurant including a new flag pole.  In honor of Veterans Day the American Legion will present the colors in a flag raising ceremony at the 501 Gordon Drive location and invite the public to attend.  All Veterans will receive a free breakfast on Veteran's Day\, Saturday\, November 11th.
X-ALT-DESC;FMTTYPE=text/html:Perkins Family Restaurant in downtown Sioux City has recently completed a renovation of their restaurant including a new flag pole.&nbsp\; In honor of Veterans Day the American Legion will present the colors in a flag raising ceremony at the 501 Gordon Drive location and invite the public to attend.&nbsp\; All Veterans will receive a free breakfast on Veteran&#39\;s Day\, Saturday\, November 11th.&nbsp\;&nbsp\;
LOCATION:501 Gordon Drive Sioux City
UID:e.769.4603
SEQUENCE:3
DTSTAMP:20260420T074641Z
URL:https://directory.siouxlandchamber.com/events/details/flag-raising-perkins-family-restaurant-downtown-4603
END:VEVENT

END:VCALENDAR
