BEGIN:VCALENDAR
VERSION:2.0
PRODID:-//ChamberMaster//Event Calendar 2.0//EN
METHOD:PUBLISH
X-PUBLISHED-TTL:P3D
REFRESH-INTERVAL:P3D
CALSCALE:GREGORIAN
BEGIN:VEVENT
DTSTART:20171117T150000Z
DTEND:20171117T153000Z
X-MICROSOFT-CDO-ALLDAYEVENT:FALSE
SUMMARY:Flag Dedication - Peak Performance Fitness Gear
DESCRIPTION:Please join the Siouxland  and South Sioux City Chamber for a Flag Dedication Ceremony being held at Peak Performance Fitness Gear.  Army Veteran Troy Walker started making the very unique wood flags and cutting boards to raise money to help cover the cost of a funeral for families of veterans who take their own lives and will be part of the dedication ceremony.
X-ALT-DESC;FMTTYPE=text/html:Please join the Siouxland&nbsp\; and South Sioux City Chamber for a Flag Dedication Ceremony being held at Peak Performance Fitness Gear.&nbsp\; Army Veteran Troy&nbsp\;Walker started making the very unique wood flags and cutting boards to raise money to help cover the cost of a funeral for families of veterans who take their own lives and will be part of the dedication ceremony.&nbsp\;&nbsp\;
LOCATION:4501 Southern Hills Drive Sioux City
UID:e.769.4607
SEQUENCE:3
DTSTAMP:20260420T061548Z
URL:https://directory.siouxlandchamber.com/events/details/flag-dedication-peak-performance-fitness-gear-4607
END:VEVENT

END:VCALENDAR
