BEGIN:VCALENDAR
VERSION:2.0
PRODID:-//ChamberMaster//Event Calendar 2.0//EN
METHOD:PUBLISH
X-PUBLISHED-TTL:P3D
REFRESH-INTERVAL:P3D
CALSCALE:GREGORIAN
BEGIN:VEVENT
DTSTART:20230223T150000Z
DTEND:20230223T160000Z
X-MICROSOFT-CDO-ALLDAYEVENT:FALSE
SUMMARY:Entrepreneur Hour
DESCRIPTION:Starting any business is a challenge\, but food related businesses can create even more. Join us for Entrepreneur Hour and hear the start-up story of Graze-A Charcuterie Company. Owner Christina Edwardson will share how she started the company while receiving a cancer diagnosis\, maintaining a full time job\, and how she navigated all the ups and downs of creating a business.
X-ALT-DESC;FMTTYPE=text/html:<em>Starting any business is a challenge\, but food related businesses can create even more. Join us for Entrepreneur Hour and hear the start-up story of Graze-A Charcuterie Company. Owner Christina Edwardson will share how she started the company while receiving a cancer diagnosis\, maintaining a full time job\, and how she navigated all the ups and downs of creating a business.</em>
LOCATION:In person at the Siouxland Chamber (101 Pierce) or via Zoom. RSVP your attendance to hreinking@siouxlandchamber.com Zoom link sent upon request
UID:e.769.5917
SEQUENCE:3
DTSTAMP:20260419T151154Z
URL:https://directory.siouxlandchamber.com/events/details/entrepreneur-hour-5917
END:VEVENT

END:VCALENDAR
