BEGIN:VCALENDAR
VERSION:2.0
PRODID:-//ChamberMaster//Event Calendar 2.0//EN
METHOD:PUBLISH
X-PUBLISHED-TTL:P3D
REFRESH-INTERVAL:P3D
CALSCALE:GREGORIAN
BEGIN:VEVENT
DTSTART:20230127T150000Z
DTEND:20230127T160000Z
X-MICROSOFT-CDO-ALLDAYEVENT:FALSE
SUMMARY:Entrepreneur Hour
DESCRIPTION:How do you restart a business after moving from Texas to Iowa? Join us for the next Entrepreneur Hour where Chef Jennifer Gonzalez from Dashing Dinners Personal Chef\, Catering\, & Events\, will share her journey on starting her business in Siouxland.
X-ALT-DESC;FMTTYPE=text/html:<p class="yiv3202383828msonormal">How do you restart a business after moving from Texas to Iowa? Join us for the next Entrepreneur Hour where Chef Jennifer Gonzalez from Dashing Dinners Personal Chef\, Catering\, &amp\; Events\, will share her journey on starting her business in Siouxland.<o:p></o:p></p>\n
LOCATION:101 Pierce Street or via Zoom *RSVP your attendance to hreinking@siouxlandchamber.com Zoom link will be sent upon request
UID:e.769.5916
SEQUENCE:3
DTSTAMP:20260419T164250Z
URL:https://directory.siouxlandchamber.com/events/details/entrepreneur-hour-5916
END:VEVENT

END:VCALENDAR
