BEGIN:VCALENDAR
VERSION:2.0
PRODID:-//ChamberMaster//Event Calendar 2.0//EN
METHOD:PUBLISH
X-PUBLISHED-TTL:P3D
REFRESH-INTERVAL:P3D
CALSCALE:GREGORIAN
BEGIN:VEVENT
DTSTART:20190726T140000Z
DTEND:20190726T150000Z
X-MICROSOFT-CDO-ALLDAYEVENT:FALSE
SUMMARY:Entrepreneur Hour
DESCRIPTION:What happens when your wife's grandpa gets a Mr. Beer Kit for Christmas and you ask too many questions you become an entrepreneur and open a brewery! That's what happened to Erik Martin until grandpa finally said\, "Just take it and try it!" That led to Paste Magazine naming Martin "1 of 9 homebrewers to watch in 2015 and his wife encouraging him to start a business plan. Join us for our next Entrepreneur Hour and learn how Erik Martin managed a full-time job as a 911 operator\, a wife and family\, and competed in local entrepreneur competitions to make his dream of opening Marto Brewery a reality.\n\nSpace is limited. RSVP your attendance to Heidi Reinking at hreinking@siouxlandchamber.com
X-ALT-DESC;FMTTYPE=text/html:<span style="font-family: &quot\;Calibri&quot\;\,sans-serif\; font-size: 11pt\; mso-fareast-font-family: Calibri\; mso-fareast-theme-font: minor-latin\; mso-bidi-font-family: Calibri\; mso-ansi-language: EN-US\; mso-fareast-language: EN-US\; mso-bidi-language: AR-SA\;"><em><font color="#000000">What happens when your wife&rsquo\;s grandpa gets a Mr. Beer Kit for Christmas and you ask too many questions&hellip\;you become an entrepreneur and open a brewery! That&rsquo\;s what happened to Erik Martin until grandpa finally said\, &ldquo\;Just take it and try it!&rdquo\; That led to Paste Magazine naming Martin &ldquo\;1 of 9 homebrewers to watch in 2015 and his wife encouraging him to start a business plan. Join us for our next Entrepreneur Hour and learn how Erik Martin managed a full-time job as a 911 operator\, a wife and family\, and competed in local entrepreneur competitions to make his dream of opening Marto Brewery a reality.<br />\nSpace is limited. RSVP your attendance to Heidi Reinking at <a href="mailto:hreinking@siouxlandchamber.com">hreinking@siouxlandchamber.com</a></font></em></span>
LOCATION:Siouxland Chamber of Commerce 701 Pierce Street Suite 100 Street parking available
UID:e.769.4911
SEQUENCE:3
DTSTAMP:20260421T121650Z
URL:https://directory.siouxlandchamber.com/events/details/entrepreneur-hour-4911
END:VEVENT

END:VCALENDAR
