BEGIN:VCALENDAR
VERSION:2.0
PRODID:-//ChamberMaster//Event Calendar 2.0//EN
METHOD:PUBLISH
X-PUBLISHED-TTL:P3D
REFRESH-INTERVAL:P3D
CALSCALE:GREGORIAN
BEGIN:VEVENT
DTSTART:20220527T140000Z
DTEND:20220527T150000Z
X-MICROSOFT-CDO-ALLDAYEVENT:FALSE
SUMMARY:Entrepreneur Hour 2022
DESCRIPTION:Cheesecakes\, bars\, cookies\, and cakes\, oh my! Join us for the next Entrepreneur Hour and hear the start-up story of crumb. Owner\, Jake Hawkins\, will share how he turned his hobby of baking into a business during the pandemic while working and being a husband and dad.
X-ALT-DESC;FMTTYPE=text/html:&nbsp\;<em><span style="font-family:calibri\,sans-serif\;"><span style="font-size:11.0pt\;">Cheesecakes\, bars\, cookies\, and cakes\, oh my! Join us for the next Entrepreneur Hour and hear the start-up story of crumb. Owner\, Jake Hawkins\, will share how he turned his hobby of baking into a business during the pandemic while working and being a husband and dad.</span></span></em>
LOCATION:Siouxland Chamber of Commerce 101 Pierce Street or via Zoom *RSVP your attendance to hreinking@siouxlandchamber.com Zoom link will be sent upon request.
UID:e.769.5703
SEQUENCE:3
DTSTAMP:20260420T052109Z
URL:https://directory.siouxlandchamber.com/events/details/entrepreneur-hour-2022-5703
END:VEVENT

END:VCALENDAR
