BEGIN:VCALENDAR
VERSION:2.0
PRODID:-//ChamberMaster//Event Calendar 2.0//EN
METHOD:PUBLISH
X-PUBLISHED-TTL:P3D
REFRESH-INTERVAL:P3D
CALSCALE:GREGORIAN
BEGIN:VEVENT
DTSTART:20221028T140000Z
DTEND:20221028T150000Z
X-MICROSOFT-CDO-ALLDAYEVENT:FALSE
SUMMARY:Entrepreneur Hour 2022
DESCRIPTION:Nutrition. Workouts. Motivation. Join us for the next Entrepreneur Hour and hear how Cody Rininger created a company to help keep Siouxland healthy.
X-ALT-DESC;FMTTYPE=text/html:<span style="font-family:calibri\,sans-serif\;"><span style="font-size:11.0pt\;">Nutrition. Workouts. Motivation. Join us for the next Entrepreneur Hour and hear how Cody Rininger created a company to help keep Siouxland healthy.</span></span>
LOCATION:In-person at the Siouxland Chamber or via Zoom RSVP your attendance to hreinking@siouxlandchamber.com Zoom link will be sent upon request
UID:e.769.5698
SEQUENCE:3
DTSTAMP:20260419T212447Z
URL:https://directory.siouxlandchamber.com/events/details/entrepreneur-hour-2022-5698
END:VEVENT

END:VCALENDAR
