BEGIN:VCALENDAR
VERSION:2.0
PRODID:-//ChamberMaster//Event Calendar 2.0//EN
METHOD:PUBLISH
X-PUBLISHED-TTL:P3D
REFRESH-INTERVAL:P3D
CALSCALE:GREGORIAN
BEGIN:VEVENT
DTSTART:20221118T150000Z
DTEND:20221118T160000Z
X-MICROSOFT-CDO-ALLDAYEVENT:FALSE
SUMMARY:Entrepreneur Hour 2022
DESCRIPTION:Start a business. Sell a business. Buy a business. What does it take? Join us for the next Entrepreneur Hour and hear how John Stevens got his start as an entrepreneur and how he continues to look for ways to start and grow businesses.
X-ALT-DESC;FMTTYPE=text/html:<span style="font-family:calibri\,sans-serif\;"><span style="font-size:11.0pt\;">Start a business. Sell a business. Buy a business. What does it take? Join us for the next Entrepreneur Hour and hear how John Stevens got his start as an entrepreneur and how he continues to look for ways to start and grow businesses.</span></span>
LOCATION:In-person at the Siouxland Chamber or via Zoom *RSVP your attendance to hreinking@siouxlandchamber.com Zoom link sent upon request.
UID:e.769.5697
SEQUENCE:3
DTSTAMP:20260419T195343Z
URL:https://directory.siouxlandchamber.com/events/details/entrepreneur-hour-2022-5697
END:VEVENT

END:VCALENDAR
