BEGIN:VCALENDAR
VERSION:2.0
PRODID:-//ChamberMaster//Event Calendar 2.0//EN
METHOD:PUBLISH
X-PUBLISHED-TTL:P3D
REFRESH-INTERVAL:P3D
CALSCALE:GREGORIAN
BEGIN:VEVENT
DTSTART:20230221T180000Z
DTEND:20230221T190000Z
X-MICROSOFT-CDO-ALLDAYEVENT:FALSE
SUMMARY:Discovering Worksite Wellness - Stress Management
DESCRIPTION:Our presenter this month will be Dr. Ida Mazza from MercyOne Siouxland Heart and Vascular Center. When it comes to the most important muscle in your body\, stress can have a lasting impact! Join us as we learn more about stress management\, signs and symptoms of heart disease you should be on the lookout for and how to keep your heart strong for years to come.\n\n\n\nThe mission of Discovering Worksite Wellness is to promote the benefit of having a well workforce by engaging members to develop practices & policies to keep their workforce and workplace healthy.
X-ALT-DESC;FMTTYPE=text/html:<span style="font-size:12px\;"><span style="font-family:verdana\;"><span style="background-image: initial\; background-position: initial\; background-size: initial\; background-repeat: initial\; background-attachment: initial\; background-origin: initial\; background-clip: initial\;">Our presenter this month will be Dr. Ida Mazza&nbsp\;from MercyOne Siouxland Heart and Vascular Center. When it comes to the most important muscle in your body\, stress can have a lasting impact! Join us as we learn more about stress management\, signs and symptoms of heart disease you should be on the lookout for and how to keep your heart strong for years to come.</span><br />\n<br />\nThe mission of Discovering Worksite Wellness is to promote the benefit of having a well workforce by engaging members to develop practices &amp\; policies to keep their workforce and workplace healthy.</span></span><br />\n&nbsp\;
LOCATION:Siouxland Chamber of Commerce 101 Pierce Street Sioux City\, IA 51101
UID:e.769.4990
SEQUENCE:3
DTSTAMP:20260419T151409Z
URL:https://directory.siouxlandchamber.com/events/details/discovering-worksite-wellness-stress-management-4990
END:VEVENT

END:VCALENDAR
