BEGIN:VCALENDAR
VERSION:2.0
PRODID:-//ChamberMaster//Event Calendar 2.0//EN
METHOD:PUBLISH
X-PUBLISHED-TTL:P3D
REFRESH-INTERVAL:P3D
CALSCALE:GREGORIAN
BEGIN:VEVENT
DTSTART:20230117T180000Z
DTEND:20230117T190000Z
X-MICROSOFT-CDO-ALLDAYEVENT:FALSE
SUMMARY:Discovering Worksite Wellness- Renewing the Mind
DESCRIPTION:It's time to be great! Dig into the The Resiliency Framework with Dr. Raul Sanchez. There are two times to be great - when you feel like it and when you don't. Why is it that most people will sign up for a challenge but only 9% continue? Why is it that the vast majority of people will listen to their boss\, friend\, and family member but they cannot follow-through on their own goals? What do the top 9% of achievers do that the 91% of underachievers aren't doing? \n\n \n\nThe 9% of achievers are consistent with their actions regardless of how they "feel." They create and nurture what it is called "The Resiliency Framework." When you learn this science-based framework\, you will learn how to find your voice\, live your dreams\, and never\, ever quit on yourself." \n\n \n\n\nThe Mission of "Discovering Worksite Wellness" is to promote the benefit of having a well workforce by engaging members to develop practices & policies to keep their workforce and workplace healthy.
X-ALT-DESC;FMTTYPE=text/html:<p class="font_8" style="background: transparent\; border: 0px\; margin: 0px\; outline: 0px\; padding: 0px\; vertical-align: baseline\; pointer-events: auto\; font-size: 18px\; color: rgb(var(--color_15))\;">It&#39\;s time to be great! Dig into the <span style="font-size: 18px\;">The Resiliency Framework with Dr. Raul Sanchez.&nbsp\;</span>There are two times&nbsp\;to be great - when you feel like it and when you don&rsquo\;t. Why is it that most people will sign up for a challenge but only 9% continue?&nbsp\;Why is it that the vast majority of people will listen to their boss\, friend\, and family member but they cannot follow-through on their own goals?&nbsp\;What do the top 9% of achievers do that the 91% of underachievers aren&rsquo\;t doing?&nbsp\;</p>\n\n<p class="font_8" style="background: transparent\; border: 0px\; margin: 0px\; outline: 0px\; padding: 0px\; vertical-align: baseline\; pointer-events: auto\; font-size: 18px\; color: rgb(var(--color_15))\;">&nbsp\;</p>\n\n<p class="font_8" style="background: transparent\; border: 0px\; margin: 0px\; outline: 0px\; padding: 0px\; vertical-align: baseline\; pointer-events: auto\; font-size: 18px\; color: rgb(var(--color_15))\;">The 9% of achievers are consistent with their actions regardless of how they &ldquo\;feel.&rdquo\; They create and nurture what it is called &ldquo\;The Resiliency Framework.&rdquo\; When you learn this science-based framework\, you will learn how to find your voice\, live your dreams\, and never\, ever quit on yourself.&quot\;&nbsp\;<br />\n&nbsp\;</p>\n<br />\nThe Mission of &quot\;Discovering Worksite Wellness&quot\; is to promote the benefit of having a well workforce by engaging members to develop practices &amp\; policies to keep their workforce and workplace healthy.<br />\n&nbsp\;
LOCATION:Siouxland Chamber of Commerce 101 Pierce Street Sioux City\, IA 51101
UID:e.769.4989
SEQUENCE:3
DTSTAMP:20260419T171033Z
URL:https://directory.siouxlandchamber.com/events/details/discovering-worksite-wellness-renewing-the-mind-4989
END:VEVENT

END:VCALENDAR
