BEGIN:VCALENDAR
VERSION:2.0
PRODID:-//ChamberMaster//Event Calendar 2.0//EN
METHOD:PUBLISH
X-PUBLISHED-TTL:P3D
REFRESH-INTERVAL:P3D
CALSCALE:GREGORIAN
BEGIN:VEVENT
DTSTART:20221220T190000Z
DTEND:20221220T200000Z
X-MICROSOFT-CDO-ALLDAYEVENT:FALSE
SUMMARY:Discovering Worksite Wellness- Goal Setting
DESCRIPTION:Presenting Member: Erin Bahrenfuss -- Strive Health & Wellness\n\n\n\nGet ready for a great year! Join us in learning from Erin on how to plan for the best year yet. Ready to set some goals and crush them in 2023? \n\n\n\nFeel free to bring your lunch and eat during the presentation. This will be a working lunch!\n\n\n\nThe purpose of these meetings is to promote the benefit of having a well workforce by engaging members to develop practices & policies to keep their workforce and workplace healthy.
X-ALT-DESC;FMTTYPE=text/html:Presenting Member: Erin Bahrenfuss -- Strive Health &amp\; Wellness<br />\n<br />\nGet ready for a <strong>great </strong>year! Join us in learning from Erin on how to plan for the best year yet. Ready to set some goals and crush them in 2023?&nbsp\;<br />\n<br />\nFeel free to bring your lunch and eat during the presentation. This will be a working lunch!<br />\n<br />\nThe purpose of these meetings is to promote the benefit of having a well workforce by engaging members to develop practices &amp\; policies to keep their workforce and workplace healthy.<br />\n&nbsp\;
LOCATION:Siouxland Chamber of Commerce 101 Pierce Street Sioux City\, IA 51101
UID:e.769.4988
SEQUENCE:3
DTSTAMP:20260419T181327Z
URL:https://directory.siouxlandchamber.com/events/details/discovering-worksite-wellness-goal-setting-4988
END:VEVENT

END:VCALENDAR
