BEGIN:VCALENDAR
VERSION:2.0
PRODID:-//ChamberMaster//Event Calendar 2.0//EN
METHOD:PUBLISH
X-PUBLISHED-TTL:P3D
REFRESH-INTERVAL:P3D
CALSCALE:GREGORIAN
BEGIN:VEVENT
DTSTART:20220920T170000Z
DTEND:20220920T180000Z
X-MICROSOFT-CDO-ALLDAYEVENT:FALSE
SUMMARY:Discovering Worksite Wellness
DESCRIPTION:It seems like eating a bag of Cheetos so much cheaper than a bag of carrots. Eating healthy can add up and put a strain on your wallet. This month\, Casey Johnson\, a certified dietitian with UnityPoint Health   St. Luke's is going to share how to eat healthy while keeping some green in your pocket too! Eating healthy on a budget is one of Casey's specialties. Plus\, she'll cover how to navigate those fad diets and food myths that can make or break your healthy eating habits. Join us on Sept. 20 at noon\, here at the Chamber.
X-ALT-DESC;FMTTYPE=text/html:It seems like eating a bag of Cheetos so much cheaper than a bag of carrots. Eating healthy can add up and put a strain on your wallet. This month\, Casey Johnson\, a certified dietitian with UnityPoint Health &ndash\; St. Luke&rsquo\;s is going to share how to eat healthy while keeping some green in your pocket too! Eating healthy on a budget is one of Casey&rsquo\;s specialties. Plus\, she&rsquo\;ll cover how to navigate those fad diets and food myths that can make or break your healthy eating habits. Join us on Sept. 20 at noon\, here at the Chamber.<br />\n&nbsp\;
LOCATION:Siouxland Chamber of Commerce 101 Pierce Street Sioux City\, IA 51101
UID:e.769.4985
SEQUENCE:3
DTSTAMP:20260419T230459Z
URL:https://directory.siouxlandchamber.com/events/details/discovering-worksite-wellness-09-20-2022-4985
END:VEVENT

END:VCALENDAR
