BEGIN:VCALENDAR
VERSION:2.0
PRODID:-//ChamberMaster//Event Calendar 2.0//EN
METHOD:PUBLISH
X-PUBLISHED-TTL:P3D
REFRESH-INTERVAL:P3D
CALSCALE:GREGORIAN
BEGIN:VEVENT
DTSTART:20220816T180000Z
DTEND:20220816T190000Z
X-MICROSOFT-CDO-ALLDAYEVENT:FALSE
SUMMARY:Discovering Worksite Wellness
DESCRIPTION:Presenting Member: Drilling Pharmacy\n\n\n\nImmunizations\, A1C\, lipid panel tests and treatments are all services provided at Drilling Pharmacy. However\, do you know what any of these tests mean? Or when you might need to ask for these services? Join us this month to learn more about Drilling Pharmacy's services and how they can help you and your family stay healthy. \n\n\n\n\n\nThe purpose of these meetings is to promote the benefit of having a well workforce by engaging members to develop practices & policies to keep their workforce and workplace healthy.
X-ALT-DESC;FMTTYPE=text/html:<strong>Presenting Member: Drilling Pharmacy</strong><br />\n<br />\n<span style="color:#36495F\;"><span style="font-family:arial\,sans-serif\;"><span style="font-size:10.5pt\;">Immunizations\, A1C\, lipid panel tests and treatments are all services provided at Drilling Pharmacy. However\, do you know what any of these tests mean? Or when you might need to ask for these services? Join us this month to learn more about Drilling Pharmacy&#39\;s services and how they can help you and your family stay healthy.&nbsp\;</span></span></span><br />\n<br />\n<br />\nThe purpose of these meetings is to promote the benefit of having a well workforce by engaging members to develop practices &amp\; policies to keep their workforce and workplace healthy.<br />\n&nbsp\;
LOCATION:Siouxland Chamber of Commerce 101 Pierce Street Sioux City\, IA 51101
UID:e.769.4984
SEQUENCE:3
DTSTAMP:20260420T003316Z
URL:https://directory.siouxlandchamber.com/events/details/discovering-worksite-wellness-08-16-2022-4984
END:VEVENT

END:VCALENDAR
