BEGIN:VCALENDAR
VERSION:2.0
PRODID:-//ChamberMaster//Event Calendar 2.0//EN
METHOD:PUBLISH
X-PUBLISHED-TTL:P3D
REFRESH-INTERVAL:P3D
CALSCALE:GREGORIAN
BEGIN:VEVENT
DTSTART:20220517T180000Z
DTEND:20220517T190000Z
X-MICROSOFT-CDO-ALLDAYEVENT:FALSE
SUMMARY:Discovering Worksite Wellness
DESCRIPTION:Presenting Member: MercyOne's Steven Warrington\, MD\n\n\n\nBurnout is real!\n\nFeeling overwhelmed lately at work? Stressed? Have a lot to get done and not enough time?\n\nMercyOne's Dr. Warrington will cover the signs and symptoms of burnout. Plus\, give some tips on how to navigate the stress so that you can show up to work and perform at your best. \n\n\n\nThe purpose of these meetings is to promote the benefit of having a well workforce by engaging members to develop practices & policies to keep their workforce and workplace healthy.
X-ALT-DESC;FMTTYPE=text/html:<strong>Presenting Member: MercyOne&#39\;s Steven Warrington\, MD</strong><br />\n<br />\nBurnout is real!<br />\nFeeling overwhelmed lately at work? Stressed? Have a lot to get done and not enough time?<br />\nMercyOne&#39\;s Dr. Warrington will cover the signs and symptoms of burnout. Plus\, give some tips on how to navigate the stress so that you can show up to work and perform at your best.&nbsp\;<br />\n<br />\nThe purpose of these meetings is to promote the benefit of having a well workforce by engaging members to develop practices &amp\; policies to keep their workforce and workplace healthy.<br />\n&nbsp\;
LOCATION:Siouxland Chamber of Commerce 101 Pierce Street Sioux City\, IA 51101
UID:e.769.4981
SEQUENCE:3
DTSTAMP:20260420T054815Z
URL:https://directory.siouxlandchamber.com/events/details/discovering-worksite-wellness-05-17-2022-4981
END:VEVENT

END:VCALENDAR
