BEGIN:VCALENDAR
VERSION:2.0
PRODID:-//ChamberMaster//Event Calendar 2.0//EN
METHOD:PUBLISH
X-PUBLISHED-TTL:P3D
REFRESH-INTERVAL:P3D
CALSCALE:GREGORIAN
BEGIN:VEVENT
DTSTART:20160909T170000Z
DTEND:20160909T180000Z
X-MICROSOFT-CDO-ALLDAYEVENT:FALSE
SUMMARY:Community Enhancement Sept 9 2016
DESCRIPTION:Trees for Siouxland / Plant Some Shade\n\nPresented by \n\n*        Kelly Bach\, City Parks Maintenance Field Supervisor\n\n*        Pam Coughlin\, Trees for Siouxland Chair\n\n*        Laurie Taylor\, Master Gardener Coordinator\, ISU Extension & Outreach Woodbury County
X-ALT-DESC;FMTTYPE=text/html:<ul>\n	<li><strong><span style="font-family:times new roman\,serif\;"><span style="font-size:14.0pt\;">Trees for Siouxland / Plant Some Shade</span></span></strong></li>\n</ul>\n<strong><span style="font-family:times new roman\,serif\;"><span style="font-size:14.0pt\;">Presented by </span></span></strong><br />\n<strong><span style="font-family:times new roman\,serif\;"><span style="font-size:14.0pt\;">*&nbsp\;&nbsp\;&nbsp\;&nbsp\;&nbsp\;&nbsp\;&nbsp\; Kelly Bach\, City Parks Maintenance Field Supervisor</span></span></strong><br />\n<strong><span style="font-family:times new roman\,serif\;"><span style="font-size:14.0pt\;">*&nbsp\;&nbsp\;&nbsp\;&nbsp\;&nbsp\;&nbsp\;&nbsp\; Pam Coughlin\, Trees for Siouxland Chair</span></span></strong><br />\n<strong><span style="font-family:times new roman\,serif\;"><span style="font-size:14.0pt\;">*&nbsp\;&nbsp\;&nbsp\;&nbsp\;&nbsp\;&nbsp\;&nbsp\; Laurie Taylor\, Master Gardener Coordinator\, ISU Extension &amp\; Outreach Woodbury County</span></span></strong>
LOCATION:Siouxland Chamber of Commerce Lower Level Board Room Bring your own lunch Beverages will be served
UID:e.769.3231
SEQUENCE:3
DTSTAMP:20260421T130512Z
URL:https://directory.siouxlandchamber.com/events/details/community-enhancement-sept-9-2016-09-09-2016-3231
END:VEVENT

END:VCALENDAR
