BEGIN:VCALENDAR
VERSION:2.0
PRODID:-//ChamberMaster//Event Calendar 2.0//EN
METHOD:PUBLISH
X-PUBLISHED-TTL:P3D
REFRESH-INTERVAL:P3D
CALSCALE:GREGORIAN
BEGIN:VEVENT
DTSTART:20200911T170000Z
DTEND:20200911T180000Z
X-MICROSOFT-CDO-ALLDAYEVENT:FALSE
SUMMARY:Community Enhancement/Ribbon Cutting - 9/11/20
DESCRIPTION:Our guest speaker is Shelly Ackerman\, Director of Meet the Need Siouxland. Shelly will share how her organization is making a difference in Siouxland. Click here to join via Zoom.\n\n\n\nWe will be kicking off the meeting with a Ribbon Cutting!
X-ALT-DESC;FMTTYPE=text/html:<span style="font-family:verdana\;"><span style="font-size:16px\;"><span font-size:="" style="color: rgb(51\, 51\, 51)\; font-family: sans-serif\, Arial\, Verdana\, " trebuchet="">Our guest speaker is Shelly Ackerman\, Director of <em>Meet the Need Siouxland</em>.&nbsp\;Shelly will share how her organization is making a difference in Siouxland. Click <strong><a href="https://us02web.zoom.us/j/81276898849">here</a></strong> to join via Zoom.</span></span></span><br />\n<br />\n<span style="font-size:16px\;"><span style="font-family:verdana\;">We will be kicking off the meeting with a Ribbon Cutting!</span></span><br font-size:="" style="color: rgb(51\, 51\, 51)\; font-family: sans-serif\, Arial\, Verdana\, " trebuchet="" />\n<br />\n<br />\n&nbsp\;
LOCATION:Join Zoom Meeting https://us02web.zoom.us/j/81276898849
UID:e.769.5401
SEQUENCE:3
DTSTAMP:20260421T104957Z
URL:https://directory.siouxlandchamber.com/events/details/community-enhancement-ribbon-cutting-9-11-20-5401
END:VEVENT

END:VCALENDAR
