BEGIN:VCALENDAR
VERSION:2.0
PRODID:-//ChamberMaster//Event Calendar 2.0//EN
METHOD:PUBLISH
X-PUBLISHED-TTL:P3D
REFRESH-INTERVAL:P3D
CALSCALE:GREGORIAN
BEGIN:VEVENT
DTSTART:20161021T170000Z
DTEND:20161021T180000Z
X-MICROSOFT-CDO-ALLDAYEVENT:FALSE
SUMMARY:Community Enhancement October 21 2016
DESCRIPTION:Program - Police Citizens Academy\n\nPresented by Sioux City Police Captain Lisa Claeys\n\nCommunity Updates on Cleanup/Litter\, Downtown Partners\, Farmers Market\, Historic Preservation\, Trails/Bike Paths
X-ALT-DESC;FMTTYPE=text/html:Program - Police Citizens Academy<br />\nPresented by Sioux City Police Captain Lisa Claeys<br />\nCommunity Updates on Cleanup/Litter\, Downtown Partners\, Farmers Market\, Historic Preservation\, Trails/Bike Paths
LOCATION:Siouxland Chamber of Commerce Lower Level Board Room Bring your own lunch Beverages will be served
UID:e.769.3325
SEQUENCE:3
DTSTAMP:20260421T114505Z
URL:https://directory.siouxlandchamber.com/events/details/community-enhancement-october-21-2016-10-21-2016-3325
END:VEVENT

END:VCALENDAR
