BEGIN:VCALENDAR
VERSION:2.0
PRODID:-//ChamberMaster//Event Calendar 2.0//EN
METHOD:PUBLISH
X-PUBLISHED-TTL:P3D
REFRESH-INTERVAL:P3D
CALSCALE:GREGORIAN
BEGIN:VEVENT
DTSTART:20171013T170000Z
DTEND:20171013T180000Z
X-MICROSOFT-CDO-ALLDAYEVENT:FALSE
SUMMARY:Community Enhancement - October 2017
DESCRIPTION:Guest speaker:  Kevin Grieme with Siouxland District Health Department
X-ALT-DESC;FMTTYPE=text/html:Guest speaker:&nbsp\; Kevin Grieme with Siouxland District Health Department
LOCATION:Siouxland Chamber of Commerce Lower Level Board Room Bring your own lunch Beverages will be served
UID:e.769.3516
SEQUENCE:3
DTSTAMP:20260420T061307Z
URL:https://directory.siouxlandchamber.com/events/details/community-enhancement-october-2017-3516
END:VEVENT

END:VCALENDAR
