BEGIN:VCALENDAR
VERSION:2.0
PRODID:-//ChamberMaster//Event Calendar 2.0//EN
METHOD:PUBLISH
X-PUBLISHED-TTL:P3D
REFRESH-INTERVAL:P3D
CALSCALE:GREGORIAN
BEGIN:VEVENT
DTSTART:20171110T180000Z
DTEND:20171110T190000Z
X-MICROSOFT-CDO-ALLDAYEVENT:FALSE
SUMMARY:Community Enhancement - November 2017
DESCRIPTION:Guest Presenter: Kim Wilson with Jackson Recovery Centers
X-ALT-DESC;FMTTYPE=text/html:Guest Presenter: Kim Wilson with Jackson Recovery Centers
LOCATION:Siouxland Chamber of Commerce Lower Level Board Room Bring your own lunch\, beverages provided.
UID:e.769.3533
SEQUENCE:3
DTSTAMP:20260420T061403Z
URL:https://directory.siouxlandchamber.com/events/details/community-enhancement-november-2017-3533
END:VEVENT

END:VCALENDAR
