BEGIN:VCALENDAR
VERSION:2.0
PRODID:-//ChamberMaster//Event Calendar 2.0//EN
METHOD:PUBLISH
X-PUBLISHED-TTL:P3D
REFRESH-INTERVAL:P3D
CALSCALE:GREGORIAN
BEGIN:VEVENT
DTSTART:20161118T180000Z
DTEND:20161118T190000Z
X-MICROSOFT-CDO-ALLDAYEVENT:FALSE
SUMMARY:Community Enhancement Nov 18 2016
DESCRIPTION:Program - Tour of LeGrand Art Collection donated to Sioux City Art Center at\n\nSioux City Art Center\n\n225 Nebraska St.\n\nSioux City\, IA  51101\n\nTour conducted by Curator Todd Behrens
X-ALT-DESC;FMTTYPE=text/html:Program - Tour of LeGrand Art Collection donated to Sioux City Art Center at<br />\nSioux City Art Center<br />\n225 Nebraska St.<br />\nSioux City\, IA &nbsp\;51101<br />\nTour conducted by Curator Todd Behrens
LOCATION:Siouxland Chamber of Commerce Community Enhancement Meeting Meeting held at Sioux City Art Center\, 225 Nebraska St. 12:00 - 1:00 p.m.
UID:e.769.3232
SEQUENCE:3
DTSTAMP:20260419T134308Z
URL:https://directory.siouxlandchamber.com/events/details/community-enhancement-nov-18-2016-3232
END:VEVENT

END:VCALENDAR
