BEGIN:VCALENDAR
VERSION:2.0
PRODID:-//ChamberMaster//Event Calendar 2.0//EN
METHOD:PUBLISH
X-PUBLISHED-TTL:P3D
REFRESH-INTERVAL:P3D
CALSCALE:GREGORIAN
BEGIN:VEVENT
DTSTART:20220909T170000Z
DTEND:20220909T180000Z
X-MICROSOFT-CDO-ALLDAYEVENT:FALSE
SUMMARY:Community Enhancement Meeting 9/9/2022
DESCRIPTION:JoAnn Gieselman will be presenting regarding Growing Community Connections.  Join us in person or via Zoom.  Please register to receive the Zoom information via confirmation email.
X-ALT-DESC;FMTTYPE=text/html:<span style="color: rgb(51\, 51\, 51)\; font-family: sans-serif\, Arial\, Verdana\, &quot\;Trebuchet MS&quot\;\; font-size: 13px\; background-color: rgb(255\, 255\, 255)\;">JoAnn Gieselman will be presenting regarding Growing Community Connections.&nbsp\; Join us in person or via Zoom.&nbsp\; Please register to receive the Zoom information via confirmation email.&nbsp\;&nbsp\;</span>
LOCATION:Siouxland Chamber of Commerce
UID:e.769.5859
SEQUENCE:3
DTSTAMP:20260421T085116Z
URL:https://directory.siouxlandchamber.com/events/details/community-enhancement-meeting-9-9-2022-5859
END:VEVENT

END:VCALENDAR
