BEGIN:VCALENDAR
VERSION:2.0
PRODID:-//ChamberMaster//Event Calendar 2.0//EN
METHOD:PUBLISH
X-PUBLISHED-TTL:P3D
REFRESH-INTERVAL:P3D
CALSCALE:GREGORIAN
BEGIN:VEVENT
DTSTART:20170609T170000Z
DTEND:20170609T180000Z
X-MICROSOFT-CDO-ALLDAYEVENT:FALSE
SUMMARY:Community Enhancement Meeting
DESCRIPTION:Presentation:  Riverfront Development - Matt Salvatore\, Parks & Recreation Director
X-ALT-DESC;FMTTYPE=text/html:Presentation:&nbsp\; Riverfront Development - Matt Salvatore\, Parks &amp\; Recreation Director
LOCATION:Chamber office\, 101 Pierce St\, lower level conference room Feel free to bring your own lunch\, beverages provided
UID:e.769.3464
SEQUENCE:3
DTSTAMP:20260419T230336Z
URL:https://directory.siouxlandchamber.com/events/details/community-enhancement-meeting-3464
END:VEVENT

END:VCALENDAR
