BEGIN:VCALENDAR
VERSION:2.0
PRODID:-//ChamberMaster//Event Calendar 2.0//EN
METHOD:PUBLISH
X-PUBLISHED-TTL:P3D
REFRESH-INTERVAL:P3D
CALSCALE:GREGORIAN
BEGIN:VEVENT
DTSTART:20180511T170000Z
DTEND:20180511T180000Z
X-MICROSOFT-CDO-ALLDAYEVENT:FALSE
SUMMARY:Community Enhancement - May 2018
DESCRIPTION:Guest Presenter:  Matt Merk\, Executive Director with the Sioux City Railroad Museum
X-ALT-DESC;FMTTYPE=text/html:Guest Presenter:&nbsp\; Matt Merk\, Executive Director&nbsp\;with the Sioux City Railroad Museum
LOCATION:Siouxland Chamber of Commerce Lower Level Board Room Bring your own lunch Beverages provided
UID:e.769.4685
SEQUENCE:3
DTSTAMP:20260420T145636Z
URL:https://directory.siouxlandchamber.com/events/details/community-enhancement-may-2018-4685
END:VEVENT

END:VCALENDAR
