BEGIN:VCALENDAR
VERSION:2.0
PRODID:-//ChamberMaster//Event Calendar 2.0//EN
METHOD:PUBLISH
X-PUBLISHED-TTL:P3D
REFRESH-INTERVAL:P3D
CALSCALE:GREGORIAN
BEGIN:VEVENT
DTSTART:20200313T170000Z
DTEND:20200313T180000Z
X-MICROSOFT-CDO-ALLDAYEVENT:FALSE
SUMMARY:Community Enhancement - March 2020 CANCELLED
DESCRIPTION:Guest speaker: Karrie King\, County Director\, and Katelyn Brinkerhoff\, Horticulture Educator\, with ISU Extension and Outreach - Woodbury County \n\n\n\n\n\nFeel free to bring your lunch\, beverages provided.
X-ALT-DESC;FMTTYPE=text/html:<span style="font-family:verdana\;"><span style="font-size:16px\;"><span font-size:="" style="color: rgb(51\, 51\, 51)\; font-family: sans-serif\, Arial\, Verdana\, " trebuchet="">Guest speaker: Karrie King\, County Director\, and Katelyn Brinkerhoff\, Horticulture Educator\, with ISU Extension and Outreach - Woodbury County&nbsp\;</span><br font-size:="" style="color: rgb(51\, 51\, 51)\; font-family: sans-serif\, Arial\, Verdana\, " trebuchet="" />\n<br />\n<br />\nFeel free to bring your lunch\, beverages provided.</span></span><br />\n<br />\n&nbsp\;
LOCATION:Siouxland Chamber 101 Pierce St.
UID:e.769.5352
SEQUENCE:3
DTSTAMP:20260421T194752Z
URL:https://directory.siouxlandchamber.com/events/details/community-enhancement-march-2020-cancelled-5352
END:VEVENT

END:VCALENDAR
