BEGIN:VCALENDAR
VERSION:2.0
PRODID:-//ChamberMaster//Event Calendar 2.0//EN
METHOD:PUBLISH
X-PUBLISHED-TTL:P3D
REFRESH-INTERVAL:P3D
CALSCALE:GREGORIAN
BEGIN:VEVENT
DTSTART:20180309T180000Z
DTEND:20180309T190000Z
X-MICROSOFT-CDO-ALLDAYEVENT:FALSE
SUMMARY:Community Enhancement - March 2018
DESCRIPTION:Guest Presenter:  Gary Turbes with MakerSpace Sioux City
X-ALT-DESC;FMTTYPE=text/html:Guest Presenter:&nbsp\; Gary Turbes with MakerSpace Sioux City
LOCATION:Siouxland Chamber of Commerce Lower Level Board Room Bring your own lunch Beverages provided
UID:e.769.4650
SEQUENCE:3
DTSTAMP:20260420T133159Z
URL:https://directory.siouxlandchamber.com/events/details/community-enhancement-march-2018-4650
END:VEVENT

END:VCALENDAR
