BEGIN:VCALENDAR
VERSION:2.0
PRODID:-//ChamberMaster//Event Calendar 2.0//EN
METHOD:PUBLISH
X-PUBLISHED-TTL:P3D
REFRESH-INTERVAL:P3D
CALSCALE:GREGORIAN
BEGIN:VEVENT
DTSTART:20170310T180000Z
DTEND:20170310T190000Z
X-MICROSOFT-CDO-ALLDAYEVENT:FALSE
SUMMARY:Community Enhancement March 10 2017
DESCRIPTION:Graham McGaffin with The Nature Conservancy in Siouxland will be the guest presenter.  He will provide a brief introduction of his organization and their work in Iowa and specifically the Loess Hills.
X-ALT-DESC;FMTTYPE=text/html:Graham McGaffin with The Nature Conservancy in Siouxland will be the guest presenter.&nbsp\; He will provide a brief introduction of his organization and their work in Iowa and specifically the Loess Hills.
LOCATION:Siouxland Chamber of Commerce Lower Level Board Room Bring your own lunch\, beverages provided.
UID:e.769.3426
SEQUENCE:3
DTSTAMP:20260419T181503Z
URL:https://directory.siouxlandchamber.com/events/details/community-enhancement-march-10-2017-3426
END:VEVENT

END:VCALENDAR
