BEGIN:VCALENDAR
VERSION:2.0
PRODID:-//ChamberMaster//Event Calendar 2.0//EN
METHOD:PUBLISH
X-PUBLISHED-TTL:P3D
REFRESH-INTERVAL:P3D
CALSCALE:GREGORIAN
BEGIN:VEVENT
DTSTART:20221118T180000Z
DTEND:20221118T190000Z
X-MICROSOFT-CDO-ALLDAYEVENT:FALSE
SUMMARY:Community Enhancement Lunch Meeting
DESCRIPTION:WE NEED YOU!!! \n\n Lunch provided\n\n \n\nSiouxland Chamber Office \n\n101 Pierce St. \n\n\n\nChris McGowan and Barbara Sloniker will be joining us\n\nas we discuss new ways to grow and revamp the\n\nCommunity Enhancement Committee.  \n\nWe look forward to hearing from you!!
X-ALT-DESC;FMTTYPE=text/html:<div style="text-align: center\;"><font face="arial"><span style="font-size: 20px\;">&nbsp\;WE NEED YOU!!!&nbsp\;</span><br />\n<strong><span style="font-size: 16px\;">&nbsp\;</span><span style="font-size: 16px\;">L</span></strong><span style="font-size: 22px\; font-family: &quot\;courier new&quot\;\;"><strong>unch provided</strong></span><br />\n<span style="font-size: 16px\;">&nbsp\;</span><br />\n<span style="font-size: 16px\;">Siouxland Chamber Office&nbsp\;</span><br />\n<span style="font-size: 16px\;">101 Pierce St.&nbsp\;</span><br />\n<br />\n<span style="font-size: 20px\;">Chris McGowan and Barbara Sloniker will be joining us</span><br />\n<span style="font-size: 16px\;">as we discuss new ways to grow and revamp the<br />\nCommunity Enhancement Committee.&nbsp\;&nbsp\;<br />\nWe look forward to hearing from you!!&nbsp\;</span></font><br />\n&nbsp\;</div>\n
LOCATION:Siouxland Chamber of Commerce 101 Pierce Street Sioux City\, IA
UID:e.769.5886
SEQUENCE:3
DTSTAMP:20260419T195552Z
URL:https://directory.siouxlandchamber.com/events/details/community-enhancement-lunch-meeting-5886
END:VEVENT

END:VCALENDAR
