BEGIN:VCALENDAR
VERSION:2.0
PRODID:-//ChamberMaster//Event Calendar 2.0//EN
METHOD:PUBLISH
X-PUBLISHED-TTL:P3D
REFRESH-INTERVAL:P3D
CALSCALE:GREGORIAN
BEGIN:VEVENT
DTSTART:20190614T170000Z
DTEND:20190614T180000Z
X-MICROSOFT-CDO-ALLDAYEVENT:FALSE
SUMMARY:Community Enhancement - June 2019
DESCRIPTION:Presentation:  Woodbury County Extension Office with Molly Hewitt\n\n\n\nJoin us to hear about their many summer programs available to the public. We'll also receive an update on the art mural project on the retaining wall at Wesley Way and 3rd Street.\n\n\n\nOn-street parking available.
X-ALT-DESC;FMTTYPE=text/html:<span style="font-size: 16px\;">Presentation:&nbsp\; Woodbury County Extension Office with Molly Hewitt<br />\n<br />\nJoin us to hear about their many summer programs available to the public. We&#39\;ll also receive an update on the art mural project on the retaining wall at Wesley Way and 3rd Street.<br />\n<br />\nOn-street parking available.</span>
LOCATION:Siouxland Chamber of Commerce 701 Pierce St\, Pioneer Bank Building Bring your own lunch Beverages will be provided
UID:e.769.5123
SEQUENCE:3
DTSTAMP:20260421T104612Z
URL:https://directory.siouxlandchamber.com/events/details/community-enhancement-june-2019-5123
END:VEVENT

END:VCALENDAR
