BEGIN:VCALENDAR
VERSION:2.0
PRODID:-//ChamberMaster//Event Calendar 2.0//EN
METHOD:PUBLISH
X-PUBLISHED-TTL:P3D
REFRESH-INTERVAL:P3D
CALSCALE:GREGORIAN
BEGIN:VEVENT
DTSTART:20200612T170000Z
DTEND:20200612T180000Z
X-MICROSOFT-CDO-ALLDAYEVENT:FALSE
SUMMARY:Community Enhancement - June 12\, 2020
DESCRIPTION:Our guest speaker will be Heather Hennings\, President of United Way of Siouxland. Heather will share how the organization has responded to the COVID pandemic and update us on upcoming events.\n\n\n\nJoin Zoom Meeting\n\nhttps://us02web.zoom.us/j/86196782344\n\nMeeting ID: 861 9678 2344
X-ALT-DESC;FMTTYPE=text/html:Our guest speaker will be Heather Hennings\, President of United Way of Siouxland. Heather will share how the organization has responded to the COVID pandemic and update us on upcoming events.<br />\n<br />\nJoin Zoom Meeting<br />\n<a href="https://us02web.zoom.us/j/86196782344">https://us02web.zoom.us/j/86196782344</a><br />\nMeeting ID: 861 9678 2344<br />\n<br />\n&nbsp\;
LOCATION:Zoom Meeting
UID:e.769.5381
SEQUENCE:3
DTSTAMP:20260421T152912Z
URL:https://directory.siouxlandchamber.com/events/details/community-enhancement-june-12-2020-5381
END:VEVENT

END:VCALENDAR
