BEGIN:VCALENDAR
VERSION:2.0
PRODID:-//ChamberMaster//Event Calendar 2.0//EN
METHOD:PUBLISH
X-PUBLISHED-TTL:P3D
REFRESH-INTERVAL:P3D
CALSCALE:GREGORIAN
BEGIN:VEVENT
DTSTART:20190712T170000Z
DTEND:20190712T180000Z
X-MICROSOFT-CDO-ALLDAYEVENT:FALSE
SUMMARY:Community Enhancement - July 2019
DESCRIPTION:Guest Presenter:  Gene Maffit\, South Sioux City Parks Director\n\n\n\nSiouxland Chamber Office\, Pioneer Bank Building\, 701 Pierce St. On-street parking available.
X-ALT-DESC;FMTTYPE=text/html:<span style="font-size: 16px\;">Guest Presenter:&nbsp\;&nbsp\;Gene Maffit\, South Sioux City Parks Director<br />\n<br />\nSiouxland Chamber Office\, Pioneer Bank Building\, 701 Pierce St. On-street parking available.</span>
LOCATION:Siouxland Chamber of Commerce 701 Pierce St\, Pioneer Bank Building Bring your own lunch Beverages will be provided
UID:e.769.5119
SEQUENCE:3
DTSTAMP:20260421T121847Z
URL:https://directory.siouxlandchamber.com/events/details/community-enhancement-july-2019-5119
END:VEVENT

END:VCALENDAR
