BEGIN:VCALENDAR
VERSION:2.0
PRODID:-//ChamberMaster//Event Calendar 2.0//EN
METHOD:PUBLISH
X-PUBLISHED-TTL:P3D
REFRESH-INTERVAL:P3D
CALSCALE:GREGORIAN
BEGIN:VEVENT
DTSTART:20180713T170000Z
DTEND:20180713T180000Z
X-MICROSOFT-CDO-ALLDAYEVENT:FALSE
SUMMARY:Community Enhancement - July 2018
DESCRIPTION:Tour of Warrior Hotel Project with Roger Caudron\n\nPlease RSVP for head count for the tour.
X-ALT-DESC;FMTTYPE=text/html:<span style="color: rgb(255\, 0\, 0)\;"><strong>Tour of Warrior Hotel Project with Roger Caudron<br />\nPlease RSVP for head count for the tour.</strong></span><br />\n&nbsp\;
LOCATION:
UID:e.769.4696
SEQUENCE:3
DTSTAMP:20260420T175339Z
URL:https://directory.siouxlandchamber.com/events/details/community-enhancement-july-2018-4696
END:VEVENT

END:VCALENDAR
