BEGIN:VCALENDAR
VERSION:2.0
PRODID:-//ChamberMaster//Event Calendar 2.0//EN
METHOD:PUBLISH
X-PUBLISHED-TTL:P3D
REFRESH-INTERVAL:P3D
CALSCALE:GREGORIAN
BEGIN:VEVENT
DTSTART:20190111T180000Z
DTEND:20190111T190000Z
X-MICROSOFT-CDO-ALLDAYEVENT:FALSE
SUMMARY:Community Enhancement - January 2019
DESCRIPTION:Guest Presenters:  Russ & Diana Wooley\, Lamb Theatre
X-ALT-DESC;FMTTYPE=text/html:Guest Presenters:&nbsp\; Russ &amp\; Diana Wooley\, Lamb Theatre
LOCATION:Siouxland Chamber of Commerce 701 Pierce St\, Pioneer Bank Building Bring your own lunch Beverages will be provided
UID:e.769.4886
SEQUENCE:3
DTSTAMP:20260421T044040Z
URL:https://directory.siouxlandchamber.com/events/details/community-enhancement-january-2019-4886
END:VEVENT

END:VCALENDAR
