BEGIN:VCALENDAR
VERSION:2.0
PRODID:-//ChamberMaster//Event Calendar 2.0//EN
METHOD:PUBLISH
X-PUBLISHED-TTL:P3D
REFRESH-INTERVAL:P3D
CALSCALE:GREGORIAN
BEGIN:VEVENT
DTSTART:20180112T180000Z
DTEND:20180112T190000Z
X-MICROSOFT-CDO-ALLDAYEVENT:FALSE
SUMMARY:Community Enhancement - January 2018
DESCRIPTION:Guest Presenter:  Velvet Jeratowski with Crossroads of Western Iowa
X-ALT-DESC;FMTTYPE=text/html:Guest Presenter:&nbsp\; Velvet Jeratowski with Crossroads of Western Iowa
LOCATION:Siouxland Chamber of Commerce Lower Level Board Room Bring your own lunch\, beverages provided.
UID:e.769.4623
SEQUENCE:3
DTSTAMP:20260420T103023Z
URL:https://directory.siouxlandchamber.com/events/details/community-enhancement-january-2018-4623
END:VEVENT

END:VCALENDAR
