BEGIN:VCALENDAR
VERSION:2.0
PRODID:-//ChamberMaster//Event Calendar 2.0//EN
METHOD:PUBLISH
X-PUBLISHED-TTL:P3D
REFRESH-INTERVAL:P3D
CALSCALE:GREGORIAN
BEGIN:VEVENT
DTSTART:20170113T180000Z
DTEND:20170113T190000Z
X-MICROSOFT-CDO-ALLDAYEVENT:FALSE
SUMMARY:Community Enhancement January 13 2017
DESCRIPTION:Jody Moats\, Adams Homestead and Nature Preserve will be the guest speaker and will present info on upcoming events and how the community can utilize the preserve.
X-ALT-DESC;FMTTYPE=text/html:Jody Moats\, Adams Homestead and Nature Preserve will be the guest speaker and will present info on upcoming events and how the community can utilize the preserve.
LOCATION:Siouxland Chamber of Commerce Lower Level Board Room Bring your own lunch Beverages will be served
UID:e.769.3429
SEQUENCE:3
DTSTAMP:20260419T164514Z
URL:https://directory.siouxlandchamber.com/events/details/community-enhancement-january-13-2017-3429
END:VEVENT

END:VCALENDAR
