BEGIN:VCALENDAR
VERSION:2.0
PRODID:-//ChamberMaster//Event Calendar 2.0//EN
METHOD:PUBLISH
X-PUBLISHED-TTL:P3D
REFRESH-INTERVAL:P3D
CALSCALE:GREGORIAN
BEGIN:VEVENT
DTSTART:20170210T180000Z
DTEND:20170210T190000Z
X-MICROSOFT-CDO-ALLDAYEVENT:FALSE
SUMMARY:Community Enhancement February 10 2017
DESCRIPTION:J & M Real Estate will be the guest presenters and will speak on Economic Development through Housing and Commercial land use planning\, the processes of implementation with local government\, local investors\, builders and other affiliated organizations.
X-ALT-DESC;FMTTYPE=text/html:J &amp\; M Real Estate will be the guest presenters and will s<span style="color: black\; font-family: &quot\;Calibri&quot\;\,sans-serif\; font-size: 11pt\; mso-fareast-font-family: Calibri\; mso-fareast-theme-font: minor-latin\; mso-bidi-font-family: &quot\;Times New Roman&quot\;\; mso-ansi-language: EN-US\; mso-fareast-language: EN-US\; mso-bidi-language: AR-SA\;">peak on Economic Development&nbsp\;through Housing and Commercial land use planning\, the&nbsp\;processes&nbsp\;of&nbsp\;implementation with local government\, local investors\, builders and other affiliated organizations.</span>
LOCATION:Siouxland Chamber of Commerce Lower Level Board Room Bring your own lunch Beverages will be served
UID:e.769.3425
SEQUENCE:3
DTSTAMP:20260419T164657Z
URL:https://directory.siouxlandchamber.com/events/details/community-enhancement-february-10-2017-3425
END:VEVENT

END:VCALENDAR
